BEGIN:VCALENDAR
VERSION:2.0
PRODID:-//Secteur Ahuntsic-Ouest (6N) - ECPv5.14.0.4//NONSGML v1.0//EN
CALSCALE:GREGORIAN
METHOD:PUBLISH
X-WR-CALNAME:Secteur Ahuntsic-Ouest (6N)
X-ORIGINAL-URL:https://ahuntsic-ouest.areq.lacsq.org
X-WR-CALDESC:évènements pour Secteur Ahuntsic-Ouest (6N)
BEGIN:VTIMEZONE
TZID:America/New_York
BEGIN:DAYLIGHT
TZOFFSETFROM:-0500
TZOFFSETTO:-0400
TZNAME:EDT
DTSTART:20250309T070000
END:DAYLIGHT
BEGIN:STANDARD
TZOFFSETFROM:-0400
TZOFFSETTO:-0500
TZNAME:EST
DTSTART:20251102T060000
END:STANDARD
END:VTIMEZONE
BEGIN:VEVENT
DTSTART;TZID=America/New_York:20250319T133000
DTEND;TZID=America/New_York:20250319T150000
DTSTAMP:20260424T172053
CREATED:20250301T142755Z
LAST-MODIFIED:20250301T142838Z
UID:2855-1742391000-1742396400@ahuntsic-ouest.areq.lacsq.org
SUMMARY:2e rendez-vous des arts: Conférence « Omniprésence de la photographie dans nos vies »
DESCRIPTION:Sujet : Conférence du photographe Hugues St-Pierre: « Omniprésence de la photographie dans nos vies »\, Cliquez ici \nLieu : salle Café Da\, bibliothèque Ahuntsic\, 10300\, rue Lajeunesse\, Montréal \nCoût : gratuit \nHeure : 13 h 30 \nInscription : avant le 13 mars auprès de Madeleine Martin\n                                                madeleinemartin203@hotmail.com 
URL:https://ahuntsic-ouest.areq.lacsq.org/event/2e-rendez-vous-des-arts-conference-omnipresence-de-la-photographie-dans-nos-vies/
LOCATION:Bibliothèque Ahuntsic\, 10300\, rue Lajeunesse\, Montréal\, Quebec\, Canada
ORGANIZER;CN="Madeleine%20Martin":MAILTO:madeleinemartin203@hotmail.com
END:VEVENT
END:VCALENDAR