BEGIN:VCALENDAR
VERSION:2.0
PRODID:-//Secteur Ahuntsic-Ouest (6N) - ECPv5.14.0.4//NONSGML v1.0//EN
CALSCALE:GREGORIAN
METHOD:PUBLISH
X-WR-CALNAME:Secteur Ahuntsic-Ouest (6N)
X-ORIGINAL-URL:https://ahuntsic-ouest.areq.lacsq.org
X-WR-CALDESC:évènements pour Secteur Ahuntsic-Ouest (6N)
BEGIN:VTIMEZONE
TZID:America/New_York
BEGIN:DAYLIGHT
TZOFFSETFROM:-0500
TZOFFSETTO:-0400
TZNAME:EDT
DTSTART:20250309T070000
END:DAYLIGHT
BEGIN:STANDARD
TZOFFSETFROM:-0400
TZOFFSETTO:-0500
TZNAME:EST
DTSTART:20251102T060000
END:STANDARD
END:VTIMEZONE
BEGIN:VEVENT
DTSTART;TZID=America/New_York:20250409T130000
DTEND;TZID=America/New_York:20250409T153000
DTSTAMP:20260424T172102
CREATED:20250318T133057Z
LAST-MODIFIED:20250318T133330Z
UID:2868-1744203600-1744212600@ahuntsic-ouest.areq.lacsq.org
SUMMARY:3e rendez-vous des arts: "Poésie et photographie au collodion humide"
DESCRIPTION:Sujet : Poésie et photographie au collodion humide  Cliquez ici\nLieu : Place Geneviève-Laliberté\, 4441\, Ontario Est\nHeure : 13 h\nInscription : avant le 3 avril auprès de Madeleine Martin
URL:https://ahuntsic-ouest.areq.lacsq.org/event/3e-rendez-vous-des-arts-poesie-et-photographie-au-collodion-humide/
LOCATION:Place Geneviève-Laliberté\, 4441\, Ontario Est\, Montréal\, Québec\, H1V3S6\, Canada
ORGANIZER;CN="Madeleine%20Martin":MAILTO:madeleinemartin203@hotmail.com
END:VEVENT
END:VCALENDAR