BEGIN:VCALENDAR
VERSION:2.0
PRODID:-//Secteur Ahuntsic-Ouest (6N) - ECPv5.14.0.4//NONSGML v1.0//EN
CALSCALE:GREGORIAN
METHOD:PUBLISH
X-WR-CALNAME:Secteur Ahuntsic-Ouest (6N)
X-ORIGINAL-URL:https://ahuntsic-ouest.areq.lacsq.org
X-WR-CALDESC:évènements pour Secteur Ahuntsic-Ouest (6N)
BEGIN:VTIMEZONE
TZID:America/New_York
BEGIN:DAYLIGHT
TZOFFSETFROM:-0500
TZOFFSETTO:-0400
TZNAME:EDT
DTSTART:20230312T070000
END:DAYLIGHT
BEGIN:STANDARD
TZOFFSETFROM:-0400
TZOFFSETTO:-0500
TZNAME:EST
DTSTART:20231105T060000
END:STANDARD
END:VTIMEZONE
BEGIN:VEVENT
DTSTART;TZID=America/New_York:20231101T133000
DTEND;TZID=America/New_York:20231101T153000
DTSTAMP:20260424T223552
CREATED:20231019T135403Z
LAST-MODIFIED:20231019T135455Z
UID:2277-1698845400-1698852600@ahuntsic-ouest.areq.lacsq.org
SUMMARY:Activité du Comité des arts
DESCRIPTION:Conférence de Sylvie Coutu sur l’abstraction en art intitulée « Les pionniers de l’abstraction ». Informations dans Les échos de l’île p.12 \nDate: le mercredi 1er novembre \nLieu: Bibliothèque de l’Institut culinaire St-Pius X au 9955 avenue Papineau \nHeure: 13h 30 \nCoût: Gratuit pour les membres\, 10 $ pour les non-membres \nInscription: au plus tard le 25 octobre auprès de Micheline Latreille\, \n450 974-3552 ou mich.2@videotron.ca \nMicheline prendra aussi les inscriptions lors de notre dîner du 20 oct.
URL:https://ahuntsic-ouest.areq.lacsq.org/event/activite-comite-des-arts/
LOCATION:Institut culinaire St-Pius X\, 9955 rue Papineau\, Montréal\, Québec\, Canada
ORGANIZER;CN="Micheline%20Latreille":MAILTO:mich.2@videotron.ca
END:VEVENT
END:VCALENDAR