BEGIN:VCALENDAR
VERSION:2.0
PRODID:-//Secteur Ahuntsic-Ouest (6N) - ECPv5.14.0.4//NONSGML v1.0//EN
CALSCALE:GREGORIAN
METHOD:PUBLISH
X-WR-CALNAME:Secteur Ahuntsic-Ouest (6N)
X-ORIGINAL-URL:https://ahuntsic-ouest.areq.lacsq.org
X-WR-CALDESC:évènements pour Secteur Ahuntsic-Ouest (6N)
BEGIN:VTIMEZONE
TZID:America/New_York
BEGIN:DAYLIGHT
TZOFFSETFROM:-0500
TZOFFSETTO:-0400
TZNAME:EDT
DTSTART:20230312T070000
END:DAYLIGHT
BEGIN:STANDARD
TZOFFSETFROM:-0400
TZOFFSETTO:-0500
TZNAME:EST
DTSTART:20231105T060000
END:STANDARD
END:VTIMEZONE
BEGIN:VEVENT
DTSTART;TZID=America/New_York:20231027T093000
DTEND;TZID=America/New_York:20231027T123000
DTSTAMP:20260424T223544
CREATED:20231019T134839Z
LAST-MODIFIED:20231019T135210Z
UID:2274-1698399000-1698409800@ahuntsic-ouest.areq.lacsq.org
SUMMARY:Activité du comité de l’environnement
DESCRIPTION:Plantation d’arbres SOVERDI \nDate: LE 27 OCTOBRE \nLieu: La Maison des petits rois\, 4600 avenue Isabella\, Montréal \nHeure: de 9h 30 à 12h 30 \nInscription: Monique Lalonde-Hazel 450 689-0351 ou hist@bell.net \nMonique prendra aussi les inscriptions lors de notre dîner du 20 octobre. \nConseils: Stationnement dans les rues avoisinantes\, Métro Côte Sainte-Catherine à 12 minutes de marche. Tout le matériel est fourni sauf les gants.  Apportez une bouteille d’eau et des collations. Bottes conseillées.
URL:https://ahuntsic-ouest.areq.lacsq.org/event/activite-du-comite-de-lenvironnement/
LOCATION:Maison des petites rois\, 4600 avenue Isabella\, Montréal\, Québec\, Canada
ORGANIZER;CN="Monique%20Lalonde-Hazel":MAILTO:hist@bell.net
END:VEVENT
END:VCALENDAR