BEGIN:VCALENDAR
VERSION:2.0
PRODID:-//Secteur Ahuntsic-Ouest (6N) - ECPv5.14.0.4//NONSGML v1.0//EN
CALSCALE:GREGORIAN
METHOD:PUBLISH
X-WR-CALNAME:Secteur Ahuntsic-Ouest (6N)
X-ORIGINAL-URL:https://ahuntsic-ouest.areq.lacsq.org
X-WR-CALDESC:évènements pour Secteur Ahuntsic-Ouest (6N)
BEGIN:VTIMEZONE
TZID:America/New_York
BEGIN:DAYLIGHT
TZOFFSETFROM:-0500
TZOFFSETTO:-0400
TZNAME:EDT
DTSTART:20240310T070000
END:DAYLIGHT
BEGIN:STANDARD
TZOFFSETFROM:-0400
TZOFFSETTO:-0500
TZNAME:EST
DTSTART:20241103T060000
END:STANDARD
END:VTIMEZONE
BEGIN:VEVENT
DTSTART;TZID=America/New_York:20241129T133000
DTEND;TZID=America/New_York:20241129T153000
DTSTAMP:20260424T190448
CREATED:20240924T120932Z
LAST-MODIFIED:20241009T140607Z
UID:2663-1732887000-1732894200@ahuntsic-ouest.areq.lacsq.org
SUMMARY:Activité du comité des femmes
DESCRIPTION:La Journée nationale de commémoration et d’action contre la violence à l’égard des femmes sera soulignée exceptionnellement cette année le vendredi 29 novembre 2024. \nMadame Mélissa Blais\, doctorante en sociologie\, chargée de cours à l’Institut de recherches et d’études féministes de l’UQAM\, auteure et co-auteure de plusieurs livres sur le féminisme\, le masculinisme et l’antiféminisme\, a accepté de nous rencontrer le 29 novembre\, n’étant pas disponible le 6 décembre. Comme l’indique les Échos de l’Île de septembre : \n… En tant que membres de l’AREQ\, nous pouvons unir nos préoccupations\, nos expériences\, notre sagesse de personnes aînées pour mieux comprendre ce qui se passe vraiment et tenter de mener une réflexion utile. Ce à quoi nous sommes toutes et tous invités\, avec l’éclairage des responsables de tous les comités et de Madame Mélissa Blais de l’UQAM \nDate : vendredi 29 novembre 2024\, de 13 h 30 à 15 h 30 \nLieu : Institut culinaire St-Pius X\, 9955 rue Papineau\, entre les rues Sauvé et Sauriol \nsationnement à l’arrière de l’École (entrée par la rue Sauriol\, sens unique vers l’Ouest) \nCoût : 5\,00 $ pour les membres\, 10\,00 $ pour les non-membres. À payer à l’entrée. \nComme à chaque année\, vous pourrez faire vos achats de Noël auprès des artisanes\, artisans et artistes de notre région qui exposeront leurs œuvres dès 12 h 30. Cliquez ici si vous voulez exposer vos oeuvres. \nDessert et café vous seront offerts à l’ouverture de la salle. \nPrière de vous inscrire auprès de votre responsable sectorielle du comité de la condition des femmes. \nMicheline Delluc\, : michelinedelluc@videotron.ca  ou 514 387-1481 \nOu auprès de Doris Gagné : gagnedoris@hotmail.com ou (450) 585-8150 \nau plus tard le 22 novembre 2024 \nSonia Trépanier\, \npour le comité de la condition des femmes\, \nAREQ-Montréal
URL:https://ahuntsic-ouest.areq.lacsq.org/event/activite-du-comite-des-femmes-et-des-arts/
LOCATION:Institut culinaire St-Pius X\, 9955 rue Papineau\, Montréal\, Québec\, Canada
ORGANIZER;CN="Micheline%20Delluc":MAILTO:michelinedelluc@videotron.ca
END:VEVENT
END:VCALENDAR