BEGIN:VCALENDAR
VERSION:2.0
PRODID:-//Secteur Ahuntsic-Ouest (6N) - ECPv5.14.0.4//NONSGML v1.0//EN
CALSCALE:GREGORIAN
METHOD:PUBLISH
X-WR-CALNAME:Secteur Ahuntsic-Ouest (6N)
X-ORIGINAL-URL:https://ahuntsic-ouest.areq.lacsq.org
X-WR-CALDESC:évènements pour Secteur Ahuntsic-Ouest (6N)
BEGIN:VTIMEZONE
TZID:America/New_York
BEGIN:DAYLIGHT
TZOFFSETFROM:-0500
TZOFFSETTO:-0400
TZNAME:EDT
DTSTART:20250309T070000
END:DAYLIGHT
BEGIN:STANDARD
TZOFFSETFROM:-0400
TZOFFSETTO:-0500
TZNAME:EST
DTSTART:20251102T060000
END:STANDARD
END:VTIMEZONE
BEGIN:VEVENT
DTSTART;TZID=America/New_York:20251205T133000
DTEND;TZID=America/New_York:20251205T153000
DTSTAMP:20260424T154707
CREATED:20250929T143726Z
LAST-MODIFIED:20251127T200627Z
UID:3074-1764941400-1764948600@ahuntsic-ouest.areq.lacsq.org
SUMMARY:Activités du comité des femmes et des arts
DESCRIPTION:Voir Échos de l’Île p. 17 \nJournée nationale de commémoration et d’action contre la violence faite aux femmes.\nLe comité des femmes vous invite à une conférence d’Aurélie Lanctôt\, juriste\, chroniqueuse au Devoir et professeur à l’UQAM qui vous transmettra les dernières informations concernant la justice versus la violence envers les femmes. \nDate : Vendredi\, le 5 décembre\nHeure : 13 h 30\nLieu : Bibliothèque du Centre St-Pius X\nCoût : 5 $ pour les membres\, 10 $ pour les non-membres.\nInscription avant le 2 décembre : Micheline Delluc\, 514 387-1481\n                                                         michelinedelluc@videotron.ca \nVente de produits crées par nos artistes\, artisans et artisanes à compter de 12 h 30 et à la pause. Venez les encourager!\nATTENTION : les personnes intéressées à vendre leurs productions\, veuillez  vous inscrire auprès de Michèle Théroux\, 514 903-0710\, michele.50@gmail.com
URL:https://ahuntsic-ouest.areq.lacsq.org/event/activites-du-comite-des-femmes-et-des-arts/
LOCATION:Institut culinaire St-Pius X\, 9955 rue Papineau\, Montréal\, Québec\, Canada
ORGANIZER;CN="Micheline%20Delluc":MAILTO:michelinedelluc@videotron.ca
END:VEVENT
END:VCALENDAR