BEGIN:VCALENDAR
VERSION:2.0
PRODID:-//Secteur Ahuntsic-Ouest (6N) - ECPv5.14.0.4//NONSGML v1.0//EN
CALSCALE:GREGORIAN
METHOD:PUBLISH
X-WR-CALNAME:Secteur Ahuntsic-Ouest (6N)
X-ORIGINAL-URL:https://ahuntsic-ouest.areq.lacsq.org
X-WR-CALDESC:évènements pour Secteur Ahuntsic-Ouest (6N)
BEGIN:VTIMEZONE
TZID:America/New_York
BEGIN:DAYLIGHT
TZOFFSETFROM:-0500
TZOFFSETTO:-0400
TZNAME:EDT
DTSTART:20230312T070000
END:DAYLIGHT
BEGIN:STANDARD
TZOFFSETFROM:-0400
TZOFFSETTO:-0500
TZNAME:EST
DTSTART:20231105T060000
END:STANDARD
END:VTIMEZONE
BEGIN:VEVENT
DTSTART;TZID=America/New_York:20231011T090000
DTEND;TZID=America/New_York:20231011T140000
DTSTAMP:20260424T223805
CREATED:20160819T132453Z
LAST-MODIFIED:20230928T024819Z
UID:605-1697014800-1697032800@ahuntsic-ouest.areq.lacsq.org
SUMMARY:Assemblée générale de la Fondation Laure-Gaudreault et dîner bénéfice
DESCRIPTION:L’assemblée générale de la FLG suivie du dîner bénéfice se tiendra le 11 octobre au sanctuaire Marie-Reine-des-Coeurs. \nLe coût du dîner est de 35 $ et donne droit à un reçu pour usage fiscal de 15 $. \nSi vous désirez participer à ce dîner\, il faudrait communiquer avec Pauline Berthiaume au 514 388-8559 pour réserver votre billet qui coûte 35 $ et donne droit à un reçu pour usage fiscal de 15 $. \nN.B. Vous pouvez assister au dîner seulement à 12 h. \nVoir toutes les informations dans Échos de l’Île de septembre\, en page 21 et 22.
URL:https://ahuntsic-ouest.areq.lacsq.org/event/assemblee-generale-diner-de-fondation-laure-gaudreault/
LOCATION:Sanctuaire Marie-Reine-des-Coeurs\, 5875\, rue Sherbrooke Est\, Montréal\, Québec\, Canada
ORGANIZER;CN="Pauline%20Berthiaume":MAILTO:pauline.b13@videotron.ca
END:VEVENT
END:VCALENDAR