BEGIN:VCALENDAR
VERSION:2.0
PRODID:-//Secteur Ahuntsic-Ouest (6N) - ECPv5.14.0.4//NONSGML v1.0//EN
CALSCALE:GREGORIAN
METHOD:PUBLISH
X-WR-CALNAME:Secteur Ahuntsic-Ouest (6N)
X-ORIGINAL-URL:https://ahuntsic-ouest.areq.lacsq.org
X-WR-CALDESC:évènements pour Secteur Ahuntsic-Ouest (6N)
BEGIN:VTIMEZONE
TZID:America/New_York
BEGIN:DAYLIGHT
TZOFFSETFROM:-0500
TZOFFSETTO:-0400
TZNAME:EDT
DTSTART:20240310T070000
END:DAYLIGHT
BEGIN:STANDARD
TZOFFSETFROM:-0400
TZOFFSETTO:-0500
TZNAME:EST
DTSTART:20241103T060000
END:STANDARD
END:VTIMEZONE
BEGIN:VEVENT
DTSTART;TZID=America/New_York:20240305T133000
DTEND;TZID=America/New_York:20240305T153000
DTSTAMP:20260424T203646
CREATED:20240228T210201Z
LAST-MODIFIED:20240228T213200Z
UID:2438-1709645400-1709652600@ahuntsic-ouest.areq.lacsq.org
SUMMARY:Ciné-club\, mardi le 5 mars
DESCRIPTION:Mettant en vedette Christine Beaulieu et Lothaire Bluteau\, le film La fonte des glaces\, présenté en primeur\, nous parle de justice réparatrice et de rédemption sur un fond de film policier. Le film sera présenté avec l’équipe du film.\nPour s’inscrire\, allez sur le site du ciné-club de la Maison 4 tiers : https://maison4tiers.com/cine-club/  (Soyez patient\, le site peut être lent à répondre.)
URL:https://ahuntsic-ouest.areq.lacsq.org/event/cine-club-mardi-le-5-mars/
LOCATION:cinéma du Musée\, 1379 Rue Sherbrooke ouest\, Montréal\, Québec\, H3G1K3\, Canada
END:VEVENT
END:VCALENDAR