BEGIN:VCALENDAR
VERSION:2.0
PRODID:-//Secteur Ahuntsic-Ouest (6N) - ECPv5.14.0.4//NONSGML v1.0//EN
CALSCALE:GREGORIAN
METHOD:PUBLISH
X-WR-CALNAME:Secteur Ahuntsic-Ouest (6N)
X-ORIGINAL-URL:https://ahuntsic-ouest.areq.lacsq.org
X-WR-CALDESC:évènements pour Secteur Ahuntsic-Ouest (6N)
BEGIN:VTIMEZONE
TZID:America/New_York
BEGIN:DAYLIGHT
TZOFFSETFROM:-0500
TZOFFSETTO:-0400
TZNAME:EDT
DTSTART:20240310T070000
END:DAYLIGHT
BEGIN:STANDARD
TZOFFSETFROM:-0400
TZOFFSETTO:-0500
TZNAME:EST
DTSTART:20241103T060000
END:STANDARD
END:VTIMEZONE
BEGIN:VEVENT
DTSTART;TZID=America/New_York:20240109T133000
DTEND;TZID=America/New_York:20240109T163000
DTSTAMP:20260424T205522
CREATED:20240103T154047Z
LAST-MODIFIED:20240103T154047Z
UID:2338-1704807000-1704817800@ahuntsic-ouest.areq.lacsq.org
SUMMARY:Ciné-club-SAPIN$
DESCRIPTION:C’est le 9 janvier à 13h30 qu’aura lieu la projection du film SAPIN$ au Cinéma du musée. \nCette fois ce n’est pas le réalisateur qui viendra vous rencontrer mais Étienne Galloy\, le comédien principal. \nVoici le lien pour vous inscrire : https://maison4tiers.com/cine-club/ \nVous pouvez payer sur place en confirmant votre présence par courriel.
URL:https://ahuntsic-ouest.areq.lacsq.org/event/cine-club-sapin/
LOCATION:cinéma du Musée\, 1379 Rue Sherbrooke ouest\, Montréal\, Québec\, H3G1K3\, Canada
END:VEVENT
END:VCALENDAR