BEGIN:VCALENDAR
VERSION:2.0
PRODID:-//Secteur Ahuntsic-Ouest (6N) - ECPv5.14.0.4//NONSGML v1.0//EN
CALSCALE:GREGORIAN
METHOD:PUBLISH
X-WR-CALNAME:Secteur Ahuntsic-Ouest (6N)
X-ORIGINAL-URL:https://ahuntsic-ouest.areq.lacsq.org
X-WR-CALDESC:évènements pour Secteur Ahuntsic-Ouest (6N)
BEGIN:VTIMEZONE
TZID:America/New_York
BEGIN:DAYLIGHT
TZOFFSETFROM:-0500
TZOFFSETTO:-0400
TZNAME:EDT
DTSTART:20230312T070000
END:DAYLIGHT
BEGIN:STANDARD
TZOFFSETFROM:-0400
TZOFFSETTO:-0500
TZNAME:EST
DTSTART:20231105T060000
END:STANDARD
END:VTIMEZONE
BEGIN:VEVENT
DTSTART;TZID=America/New_York:20230317T133000
DTEND;TZID=America/New_York:20230317T153000
DTSTAMP:20260424T223825
CREATED:20230124T212351Z
LAST-MODIFIED:20230228T213100Z
UID:1879-1679059800-1679067000@ahuntsic-ouest.areq.lacsq.org
SUMMARY:Conférence La vie et l'oeuvre de Riopelle
DESCRIPTION:Gratuit (10$ pour les non-membres). \nInscription avant le 10 mars\, auprès de Monique Gosselin
URL:https://ahuntsic-ouest.areq.lacsq.org/event/conference-la-vie-et-loeuvre-de-riopelle/
LOCATION:Institut culinaire St-Pius X\, 9955 rue Papineau\, Montréal\, Québec\, Canada
ORGANIZER;CN="Monique%20Gosselin":MAILTO:mgano@hotmail.com
END:VEVENT
END:VCALENDAR