BEGIN:VCALENDAR
VERSION:2.0
PRODID:-//Secteur Ahuntsic-Ouest (6N) - ECPv5.14.0.4//NONSGML v1.0//EN
CALSCALE:GREGORIAN
METHOD:PUBLISH
X-WR-CALNAME:Secteur Ahuntsic-Ouest (6N)
X-ORIGINAL-URL:https://ahuntsic-ouest.areq.lacsq.org
X-WR-CALDESC:évènements pour Secteur Ahuntsic-Ouest (6N)
BEGIN:VTIMEZONE
TZID:America/New_York
BEGIN:DAYLIGHT
TZOFFSETFROM:-0500
TZOFFSETTO:-0400
TZNAME:EDT
DTSTART:20250309T070000
END:DAYLIGHT
BEGIN:STANDARD
TZOFFSETFROM:-0400
TZOFFSETTO:-0500
TZNAME:EST
DTSTART:20251102T060000
END:STANDARD
END:VTIMEZONE
BEGIN:VEVENT
DTSTART;TZID=America/New_York:20250417T133000
DTEND;TZID=America/New_York:20250417T235900
DTSTAMP:20260424T172047
CREATED:20250201T192358Z
LAST-MODIFIED:20250330T123746Z
UID:2810-1744896600-1744934340@ahuntsic-ouest.areq.lacsq.org
SUMMARY:Conférence\, Les femmes artistes au Canada
DESCRIPTION:Mme Sylvie Coutu nous parlera de femmes artistes.\nDétails : Échos de l’Île p. 15\nCoût : 5 $ pour les membres et 10 $ pour les non-membres\nInscriptions avant le 7 avril à Madeleine Martin\,
URL:https://ahuntsic-ouest.areq.lacsq.org/event/conference-les-femmes-artistes-au-canada/
LOCATION:Institut culinaire St-Pius X\, 9955 rue Papineau\, Montréal\, Québec\, Canada
ORGANIZER;CN="Madeleine%20Martin":MAILTO:madeleinemartin203@hotmail.com
END:VEVENT
END:VCALENDAR