BEGIN:VCALENDAR
VERSION:2.0
PRODID:-//Secteur Ahuntsic-Ouest (6N) - ECPv5.14.0.4//NONSGML v1.0//EN
CALSCALE:GREGORIAN
METHOD:PUBLISH
X-WR-CALNAME:Secteur Ahuntsic-Ouest (6N)
X-ORIGINAL-URL:https://ahuntsic-ouest.areq.lacsq.org
X-WR-CALDESC:évènements pour Secteur Ahuntsic-Ouest (6N)
BEGIN:VTIMEZONE
TZID:America/New_York
BEGIN:DAYLIGHT
TZOFFSETFROM:-0500
TZOFFSETTO:-0400
TZNAME:EDT
DTSTART:20260308T070000
END:DAYLIGHT
BEGIN:STANDARD
TZOFFSETFROM:-0400
TZOFFSETTO:-0500
TZNAME:EST
DTSTART:20261101T060000
END:STANDARD
END:VTIMEZONE
BEGIN:VEVENT
DTSTART;VALUE=DATE:20260707
DTEND;VALUE=DATE:20260708
DTSTAMP:20260424T120610
CREATED:20260208T193007Z
LAST-MODIFIED:20260411T180935Z
UID:3278-1783382400-1783468799@ahuntsic-ouest.areq.lacsq.org
SUMMARY:Croisière du 40e anniversaire
DESCRIPTION:L’AREQ-Montréal a choisi de célébrer le 40e anniversaire de la région à bord du Cavalier Maxime\, le 7 juillet 2026. Le coût du souper croisière\, incluant l’apéro et le vin\, d’une durée de trois heures\, est de 100 $ pour les membres et de 225 $ pour les non-membres. Venez voir ou revoir les membres de votre secteur et des autres secteurs de l’Ile de Montréal dans une ambiance joyeuse et festive. Un photographe spécialisé en événement sera sur place et vous fournira des souvenirs inoubliables. \nLe Cavalier Maxim quittera le port de Montréal du Grand Quai à 19 h. La croisière dure environ 3 heures. \nL’embarquement se fera à partir de 18 h. Il y aura une allée réservée pour notre groupe où se fera la distribution des billets. \nIl y a un stationnement au Grand Quai. Vous pouvez vous regrouper pour en partager le coût . Des informations pour le transport en commun vous seront communiquées en juin. \nAux dernières nouvelles\,les inscriptions se font actuellement en grand nombre\, le nombre de places étant limité à environ 150 personnes\, je vous invite à vous inscrire rapidement. \nLa période d’inscription à cet événement commence maintenant et se déroulera jusqu’au 1er juin 2026. Vous vous inscrivez auprès de Diane Chabot en acheminant un chèque\, libellé à AREQ 06N et posté à Diane Chabot\, 7926 A rue de Verone\, Saint-Léonard\, QC\, H1P3E2 ou en faisant un virement à cs06n@hotmail.com .Notez qu’aucun remboursement ne sera effectué car nous devrons payer pour les personnes inscrites. \nLes conjointes ou conjoints qui voudraient venir et qui ne sont pas membres peuvent demander de devenir membre associés et avoir droit au même prix que les membres. Appelez Diane Chabot pour savoir comment faire au 514 324-3330 mais vous pouvez appeler directement l’AREQ au 1 800 663-2408. Faites vite\, le 1er juin arrivera plus vite qu’on le pense! \nUn 40e anniversaire\, ça se fête !\nN’hésitez pas\, inscrivez-vous sans tarder. \nDiane Chabot\nPrésidente de AREQ-Ahuntsic-Ouest. \n.
URL:https://ahuntsic-ouest.areq.lacsq.org/event/croisiere-du-40e-anniversaire/
LOCATION:Cavalier Maxime\, Vieux port de Montréal\, Canada
ORGANIZER;CN="Diane%20Chabot":MAILTO:dchabot10@hotmail.com
END:VEVENT
END:VCALENDAR