BEGIN:VCALENDAR
VERSION:2.0
PRODID:-//Secteur Ahuntsic-Ouest (6N) - ECPv5.14.0.4//NONSGML v1.0//EN
CALSCALE:GREGORIAN
METHOD:PUBLISH
X-WR-CALNAME:Secteur Ahuntsic-Ouest (6N)
X-ORIGINAL-URL:https://ahuntsic-ouest.areq.lacsq.org
X-WR-CALDESC:évènements pour Secteur Ahuntsic-Ouest (6N)
BEGIN:VTIMEZONE
TZID:America/New_York
BEGIN:DAYLIGHT
TZOFFSETFROM:-0500
TZOFFSETTO:-0400
TZNAME:EDT
DTSTART:20230312T070000
END:DAYLIGHT
BEGIN:STANDARD
TZOFFSETFROM:-0400
TZOFFSETTO:-0500
TZNAME:EST
DTSTART:20231105T060000
END:STANDARD
END:VTIMEZONE
BEGIN:VEVENT
DTSTART;TZID=America/New_York:20230314T093000
DTEND;TZID=America/New_York:20230314T110000
DTSTAMP:20260424T223544
CREATED:20160819T140910Z
LAST-MODIFIED:20230228T212902Z
UID:619-1678786200-1678791600@ahuntsic-ouest.areq.lacsq.org
SUMMARY:Déjeuner de la fin de l'hiver!
DESCRIPTION:Déjeuner pour espérer la fin de l’hiver. \nInscription avant le 12 mars auprès de Marie-Nicole Dufresne.
URL:https://ahuntsic-ouest.areq.lacsq.org/event/dejeuner-de-fin-de-lhiver/
LOCATION:Kitchen 73\, 1661\, boul. de l’Avenir\, Laval\, Québec\, H7S 2N5\, Canada
ORGANIZER;CN="Marie-Nicole%20Dufresne":MAILTO:marinique7@icloud.com
END:VEVENT
END:VCALENDAR