BEGIN:VCALENDAR
VERSION:2.0
PRODID:-//Secteur Ahuntsic-Ouest (6N) - ECPv5.14.0.4//NONSGML v1.0//EN
CALSCALE:GREGORIAN
METHOD:PUBLISH
X-WR-CALNAME:Secteur Ahuntsic-Ouest (6N)
X-ORIGINAL-URL:https://ahuntsic-ouest.areq.lacsq.org
X-WR-CALDESC:évènements pour Secteur Ahuntsic-Ouest (6N)
BEGIN:VTIMEZONE
TZID:America/New_York
BEGIN:DAYLIGHT
TZOFFSETFROM:-0500
TZOFFSETTO:-0400
TZNAME:EDT
DTSTART:20250309T070000
END:DAYLIGHT
BEGIN:STANDARD
TZOFFSETFROM:-0400
TZOFFSETTO:-0500
TZNAME:EST
DTSTART:20251102T060000
END:STANDARD
END:VTIMEZONE
BEGIN:VEVENT
DTSTART;TZID=America/New_York:20250916T093000
DTEND;TZID=America/New_York:20250916T143000
DTSTAMP:20260424T154415
CREATED:20250828T152052Z
LAST-MODIFIED:20250828T152052Z
UID:3034-1758015000-1758033000@ahuntsic-ouest.areq.lacsq.org
SUMMARY:Déjeuner de la rentrée
DESCRIPTION:Coût : selon le menu payable individuellement sur place\nInscriptions : à partir du 2 septembre et jusqu’au 13 septembre auprès de\nPierrette Boutet \nÀ cette occasion\, vous pourrez vous procurer des billets pour le dîner qui suivra l’assemblée générale de la FLG.
URL:https://ahuntsic-ouest.areq.lacsq.org/event/dejeuner-de-la-rentree/
LOCATION:Kitchen 73\, 1661\, boul. de l’Avenir\, Laval\, Québec\, H7S 2N5\, Canada
ORGANIZER;CN="Pierrette%20Boutet":MAILTO:boutetpierrette@yahoo.ca
END:VEVENT
END:VCALENDAR