BEGIN:VCALENDAR
VERSION:2.0
PRODID:-//Secteur Ahuntsic-Ouest (6N) - ECPv5.14.0.4//NONSGML v1.0//EN
CALSCALE:GREGORIAN
METHOD:PUBLISH
X-WR-CALNAME:Secteur Ahuntsic-Ouest (6N)
X-ORIGINAL-URL:https://ahuntsic-ouest.areq.lacsq.org
X-WR-CALDESC:évènements pour Secteur Ahuntsic-Ouest (6N)
BEGIN:VTIMEZONE
TZID:America/New_York
BEGIN:DAYLIGHT
TZOFFSETFROM:-0500
TZOFFSETTO:-0400
TZNAME:EDT
DTSTART:20260308T070000
END:DAYLIGHT
BEGIN:STANDARD
TZOFFSETFROM:-0400
TZOFFSETTO:-0500
TZNAME:EST
DTSTART:20261101T060000
END:STANDARD
END:VTIMEZONE
BEGIN:VEVENT
DTSTART;TZID=America/New_York:20260227T103000
DTEND;TZID=America/New_York:20260227T120000
DTSTAMP:20260424T140706
CREATED:20260129T173824Z
LAST-MODIFIED:20260218T040100Z
UID:3244-1772188200-1772193600@ahuntsic-ouest.areq.lacsq.org
SUMMARY:Visite de l’exposition de Kent Monkman au MBAM. (comité des arts)
DESCRIPTION:Contrairement aux informations de la page 15 de Échos de l’Île\, il n’y aura pas de guide donc sans frais pour les membres du musée.\nSe présenter à l’entrée du musée à 10 h 30 et Hugues St-Pierre vous recevra. \nCliquez ici pour voir toutes les informations. \nDate: 27 février (au lieu du 26)
URL:https://ahuntsic-ouest.areq.lacsq.org/event/deuxieme-rendez-vous-organise-par-le-comite-des-arts/
LOCATION:MBAM\, 2075 rue Bishop\, Montréal\, Québec\, Canada
END:VEVENT
END:VCALENDAR