BEGIN:VCALENDAR
VERSION:2.0
PRODID:-//Secteur Ahuntsic-Ouest (6N) - ECPv5.14.0.4//NONSGML v1.0//EN
CALSCALE:GREGORIAN
METHOD:PUBLISH
X-WR-CALNAME:Secteur Ahuntsic-Ouest (6N)
X-ORIGINAL-URL:https://ahuntsic-ouest.areq.lacsq.org
X-WR-CALDESC:évènements pour Secteur Ahuntsic-Ouest (6N)
BEGIN:VTIMEZONE
TZID:America/New_York
BEGIN:DAYLIGHT
TZOFFSETFROM:-0500
TZOFFSETTO:-0400
TZNAME:EDT
DTSTART:20230312T070000
END:DAYLIGHT
BEGIN:STANDARD
TZOFFSETFROM:-0400
TZOFFSETTO:-0500
TZNAME:EST
DTSTART:20231105T060000
END:STANDARD
END:VTIMEZONE
BEGIN:VEVENT
DTSTART;TZID=America/New_York:20231117T114500
DTEND;TZID=America/New_York:20231117T140000
DTSTAMP:20260424T223707
CREATED:20160819T125733Z
LAST-MODIFIED:20231103T145944Z
UID:599-1700221500-1700229600@ahuntsic-ouest.areq.lacsq.org
SUMMARY:Dîner de novembre
DESCRIPTION:Ce dîner sera l’occasion pour nous d’accueillir officiellement nos nouveaux membres. \nLe dîner leur sera offert gracieusement par le secteur. \nUne invitation personnalisée leur sera faite. \nVous êtes conviés à compter de 11h45 à l’Institut culinaire St-Pius X\, 9955 avenue Papineau. L’entrée du stationnement se trouve par la rue Sauriol. \nCoût du repas : 25 $ pour les membres et 30 $ pour les non-membres payable à votre arrivée. \nInscription avant le 15 novembre auprès de Marie-Nicole Dufresne au 450 973-8264 ou à marinique7@icloud.com \nN.B. Si vous vous inscrivez mais qu’une situation inattendue vous empêche de participer au dîner\, prière d’aviser Marie-Nicole car il arrive que nous ayons une liste d’attente  les places étant limitées.
URL:https://ahuntsic-ouest.areq.lacsq.org/event/diner-de-fete-aines/
LOCATION:Institut culinaire St-Pius X\, 9955 rue Papineau\, Montréal\, Québec\, Canada
ORGANIZER;CN="Marie-Nicole%20Dufresne":MAILTO:marinique7@icloud.com
END:VEVENT
END:VCALENDAR