BEGIN:VCALENDAR
VERSION:2.0
PRODID:-//Secteur Ahuntsic-Ouest (6N) - ECPv5.14.0.4//NONSGML v1.0//EN
CALSCALE:GREGORIAN
METHOD:PUBLISH
X-WR-CALNAME:Secteur Ahuntsic-Ouest (6N)
X-ORIGINAL-URL:https://ahuntsic-ouest.areq.lacsq.org
X-WR-CALDESC:évènements pour Secteur Ahuntsic-Ouest (6N)
BEGIN:VTIMEZONE
TZID:America/New_York
BEGIN:DAYLIGHT
TZOFFSETFROM:-0500
TZOFFSETTO:-0400
TZNAME:EDT
DTSTART:20230312T070000
END:DAYLIGHT
BEGIN:STANDARD
TZOFFSETFROM:-0400
TZOFFSETTO:-0500
TZNAME:EST
DTSTART:20231105T060000
END:STANDARD
END:VTIMEZONE
BEGIN:VEVENT
DTSTART;TZID=America/New_York:20231206T123000
DTEND;TZID=America/New_York:20231206T153000
DTSTAMP:20260424T205618
CREATED:20211112T200426Z
LAST-MODIFIED:20231115T050535Z
UID:1644-1701865800-1701876600@ahuntsic-ouest.areq.lacsq.org
SUMMARY:Journée de commémoration et d’action contre la violence faite aux femmes
DESCRIPTION:Le comité des femmes vous invite à la journée de commémoration et d’action contre la violence faite aux femmes. \nConférence de Suzanne Loiselle. \nVous trouverez l’information à la page 13 de Les Échos de l’île de septembre 2023. \nLa conférence sera précédée d’une exposition-vente d’objets d’artisanat ou d’art sur le modèle d’un marché de Noël. \nVisite de l’exposition-vente à compter de 12 h 30 \nConférence de 13 h 30 à 15 h 30 \nCoût : Gratuit pour les membres\, 10 $ pour les non-membres \nInscription : Micheline Delluc 514 387-1481\, michelinedelluc@videotron.ca \nN.B. Si vous désirez exposer vos œuvres\, cliquez ici pour lire le message du comité des arts concernant les détails et les conditions.
URL:https://ahuntsic-ouest.areq.lacsq.org/event/journee-de-commemoration-et-daction-contre-la-violence-faite-aux-femmes/
LOCATION:Institut culinaire St-Pius X\, 9955 rue Papineau\, Montréal\, Québec\, Canada
ORGANIZER;CN="Micheline%20Delluc":MAILTO:michelinedelluc@videotron.ca
END:VEVENT
END:VCALENDAR