BEGIN:VCALENDAR
VERSION:2.0
PRODID:-//Secteur Ahuntsic-Ouest (6N) - ECPv5.14.0.4//NONSGML v1.0//EN
CALSCALE:GREGORIAN
METHOD:PUBLISH
X-WR-CALNAME:Secteur Ahuntsic-Ouest (6N)
X-ORIGINAL-URL:https://ahuntsic-ouest.areq.lacsq.org
X-WR-CALDESC:évènements pour Secteur Ahuntsic-Ouest (6N)
BEGIN:VTIMEZONE
TZID:America/New_York
BEGIN:DAYLIGHT
TZOFFSETFROM:-0500
TZOFFSETTO:-0400
TZNAME:EDT
DTSTART:20250309T070000
END:DAYLIGHT
BEGIN:STANDARD
TZOFFSETFROM:-0400
TZOFFSETTO:-0500
TZNAME:EST
DTSTART:20251102T060000
END:STANDARD
END:VTIMEZONE
BEGIN:VEVENT
DTSTART;TZID=America/New_York:20251001T100000
DTEND;TZID=America/New_York:20251001T140000
DTSTAMP:20260424T154712
CREATED:20250828T155132Z
LAST-MODIFIED:20250929T133508Z
UID:3038-1759312800-1759327200@ahuntsic-ouest.areq.lacsq.org
SUMMARY:La journée internationale des personnes ainé.e.s
DESCRIPTION:La journée internationale des personnes ainé.e.s sera soulignée le 1er octobre\, pour la 5e année\, par une grande marche qui donnera une vitrine aux personnes et organismes qui agissent face aux différents enjeux et réalités du vieillissement. Cette marche\, d’un parcours accessible à tout le monde\, est de 3 km et est suivie par de l’animation et des prises de parole de personnalités du milieu des aînés. \nL’organisation recommande de s’inscrire sur le site (cliquez sur le lien suivant): \nhttps://go.geriatriesociale.org/marches-agissons-ensemble-pour-le-mieux-être-des-aînés-1 \nCette démarche assure la planification du lunch habituellement offert à la fin de la marche.\nLieu :  Départ 10h\, du Parc Lafontaine\, arrivée au Parc Lafontaine où il y aura pique-nique.\nD’autres informations suivront à la mi-septembre
URL:https://ahuntsic-ouest.areq.lacsq.org/event/la-journee-internationale-des-personnes-aine-e-s/
END:VEVENT
END:VCALENDAR