BEGIN:VCALENDAR
VERSION:2.0
PRODID:-//Secteur Ahuntsic-Ouest (6N) - ECPv5.14.0.4//NONSGML v1.0//EN
CALSCALE:GREGORIAN
METHOD:PUBLISH
X-WR-CALNAME:Secteur Ahuntsic-Ouest (6N)
X-ORIGINAL-URL:https://ahuntsic-ouest.areq.lacsq.org
X-WR-CALDESC:évènements pour Secteur Ahuntsic-Ouest (6N)
BEGIN:VTIMEZONE
TZID:America/New_York
BEGIN:DAYLIGHT
TZOFFSETFROM:-0500
TZOFFSETTO:-0400
TZNAME:EDT
DTSTART:20260308T070000
END:DAYLIGHT
BEGIN:STANDARD
TZOFFSETFROM:-0400
TZOFFSETTO:-0500
TZNAME:EST
DTSTART:20261101T060000
END:STANDARD
END:VTIMEZONE
BEGIN:VEVENT
DTSTART;TZID=America/New_York:20260205T093000
DTEND;TZID=America/New_York:20260205T153000
DTSTAMP:20260424T140645
CREATED:20260112T205722Z
LAST-MODIFIED:20260114T000103Z
UID:3222-1770283800-1770305400@ahuntsic-ouest.areq.lacsq.org
SUMMARY:Occupons-nous de nos affaires 2026
DESCRIPTION:Au programme : \n\nLa fiscalité des personnes aînées\, par une fiscaliste d’expérience.\nASSUREQ : le renouvellement au 1er janvier 2026 les nouveautés et d’autres informations.\nL’intelligence artificielle au service des personnes aînées par Samuel Labrecque\, conseiller à l’AREQ(CSQ).\n\nDate : jeudi le 5 février 2026\nHoraire :9 h 30 à 15 h 30 (accueil à 9 h.)\nLieu : Le château Classique\, 6010\, boul. Des Grandes-Prairies\, Saint-Léonard (près du boul. Lacordaire)\nCoût : 30 $ pour les membres (le secteur contribue 15 $) et 60 $ pour les non-membres.\nInscription avant le 23 janvier 2026 : Rémi Gaulin\, gaulinr7@gmail.com\nPaiement : par virement ou par chèque libellé à l’ordre de Ahuntsic-Ouest 06N.\nVeuillez indiquer votre choix de menu pour le dîner : poulet ou saumon\nAdresse : Rémi Gaulin\, 6369\, rue Chabot\, Montréal\, H2G 2T3
URL:https://ahuntsic-ouest.areq.lacsq.org/event/occupons-de-nos-affaires-2026/
LOCATION:Château classique\, 6010\, boul. des Grandes-Prairies\, St-Léonard\, Québec\, Canada
END:VEVENT
END:VCALENDAR