BEGIN:VCALENDAR
VERSION:2.0
PRODID:-//Secteur Ahuntsic-Ouest (6N) - ECPv5.14.0.4//NONSGML v1.0//EN
CALSCALE:GREGORIAN
METHOD:PUBLISH
X-WR-CALNAME:Secteur Ahuntsic-Ouest (6N)
X-ORIGINAL-URL:https://ahuntsic-ouest.areq.lacsq.org
X-WR-CALDESC:évènements pour Secteur Ahuntsic-Ouest (6N)
BEGIN:VTIMEZONE
TZID:America/New_York
BEGIN:DAYLIGHT
TZOFFSETFROM:-0500
TZOFFSETTO:-0400
TZNAME:EDT
DTSTART:20250309T070000
END:DAYLIGHT
BEGIN:STANDARD
TZOFFSETFROM:-0400
TZOFFSETTO:-0500
TZNAME:EST
DTSTART:20251102T060000
END:STANDARD
END:VTIMEZONE
BEGIN:VEVENT
DTSTART;TZID=America/New_York:20250206T093000
DTEND;TZID=America/New_York:20250206T153000
DTSTAMP:20260424T185524
CREATED:20240103T154748Z
LAST-MODIFIED:20250201T214137Z
UID:2340-1738834200-1738855800@ahuntsic-ouest.areq.lacsq.org
SUMMARY:Occupons-nous de nos affaires.
DESCRIPTION:Au programme : \n\nBien s’alimenter pour vieillir en santé: Conférence sur l’alimentation des personnes aînées en lien avec la santé générale et cognitive.\nParlons d’assurance\nLes soins de fin de vie. L’aide médicale à mourir et les directives médicales anticipées.\n\nVous trouverez le programme détaillé dans le numéro de janvier des Échos de l’Île (page 10).\nLieu : Le Château Classique\, 6010\, boul. des Grandes Prairies\, Saint-Léonard près de Lacordaire.\nHoraire : 9 h 30 à 15 h 30 (accueil à 9 h)\nCoût : 25 $ pour les membres d’Ahuntsic-ouest\, 50 $ pour les non membres\nInscription avant le 25 janvier 2025 auprès de Robert Caron \nPar chèque : au nom de AREQ 06N posté au 501-7285\, Ave. De Beaufort\, Anjou\, H1M 3W9.\nPar virement : Destinataire AREQ 06N\, courriel cs06n@hotmail.com\nLe Lien de septembre en page 5 explique la façon de le faire.\nSVP ne pas oublier d’indiquer votre choix de menu pour le dîner : saumon ou poulet
URL:https://ahuntsic-ouest.areq.lacsq.org/event/occupons-nous-de-nos-affaires/
LOCATION:Château classique\, 6010\, boul. des Grandes-Prairies\, St-Léonard\, Québec\, Canada
END:VEVENT
END:VCALENDAR