BEGIN:VCALENDAR
VERSION:2.0
PRODID:-//Secteur Ahuntsic-Ouest (6N) - ECPv5.14.0.4//NONSGML v1.0//EN
CALSCALE:GREGORIAN
METHOD:PUBLISH
X-WR-CALNAME:Secteur Ahuntsic-Ouest (6N)
X-ORIGINAL-URL:https://ahuntsic-ouest.areq.lacsq.org
X-WR-CALDESC:évènements pour Secteur Ahuntsic-Ouest (6N)
BEGIN:VTIMEZONE
TZID:America/New_York
BEGIN:DAYLIGHT
TZOFFSETFROM:-0500
TZOFFSETTO:-0400
TZNAME:EDT
DTSTART:20260308T070000
END:DAYLIGHT
BEGIN:STANDARD
TZOFFSETFROM:-0400
TZOFFSETTO:-0500
TZNAME:EST
DTSTART:20261101T060000
END:STANDARD
END:VTIMEZONE
BEGIN:VEVENT
DTSTART;TZID=America/New_York:20260531T000000
DTEND;TZID=America/New_York:20260531T000000
DTSTAMP:20260424T103734
CREATED:20180906T151539Z
LAST-MODIFIED:20260208T191842Z
UID:1131-1780185600-1780185600@ahuntsic-ouest.areq.lacsq.org
SUMMARY:Quilles-O-Thon (activité bénéfice pour la fondation Laure-Gaudreault)
DESCRIPTION:Voilà une belle occasion d’avoir du plaisir tout en soutenant la Fondation!
URL:https://ahuntsic-ouest.areq.lacsq.org/event/quilles-o-thon-activite-benefice-fondation-laure-gaudreault/
LOCATION:Salon de quilles Moderne\, 3115\, boul. de l’Assomption\, Montréal\, H1N 2H1\, Canada
ORGANIZER;CN="Diane%20Chabot":MAILTO:dchabot10@hotmail.com
END:VEVENT
END:VCALENDAR