BEGIN:VCALENDAR
VERSION:2.0
PRODID:-//Secteur Ahuntsic-Ouest (6N) - ECPv5.14.0.4//NONSGML v1.0//EN
CALSCALE:GREGORIAN
METHOD:PUBLISH
X-WR-CALNAME:Secteur Ahuntsic-Ouest (6N)
X-ORIGINAL-URL:https://ahuntsic-ouest.areq.lacsq.org
X-WR-CALDESC:évènements pour Secteur Ahuntsic-Ouest (6N)
BEGIN:VTIMEZONE
TZID:America/New_York
BEGIN:DAYLIGHT
TZOFFSETFROM:-0500
TZOFFSETTO:-0400
TZNAME:EDT
DTSTART:20240310T070000
END:DAYLIGHT
BEGIN:STANDARD
TZOFFSETFROM:-0400
TZOFFSETTO:-0500
TZNAME:EST
DTSTART:20241103T060000
END:STANDARD
END:VTIMEZONE
BEGIN:VEVENT
DTSTART;TZID=America/New_York:20240516T140000
DTEND;TZID=America/New_York:20240516T153000
DTSTAMP:20260424T203627
CREATED:20240502T183347Z
LAST-MODIFIED:20240502T183807Z
UID:2527-1715868000-1715873400@ahuntsic-ouest.areq.lacsq.org
SUMMARY:Rencontre exceptionnelle avec Madame Pauline Marois
DESCRIPTION:Date : jeudi le 16 mai\nHeure : 14 h\nLieu : Institut culinaire St-Pius X\nCoût : 5 $ pour les membres et 10\,00 $ pour les non-membres\nInscription avant lundi le 13 mai\nToute l’information se trouve dans le dernier numéro de Échos de l’île page 9.
URL:https://ahuntsic-ouest.areq.lacsq.org/event/rencontre-exceptionnelle-avec-madame-pauline-marois/
LOCATION:Institut culinaire St-Pius X\, 9955 rue Papineau\, Montréal\, Québec\, Canada
END:VEVENT
END:VCALENDAR