BEGIN:VCALENDAR
VERSION:2.0
PRODID:-//Secteur Ahuntsic-Ouest (6N) - ECPv5.14.0.4//NONSGML v1.0//EN
CALSCALE:GREGORIAN
METHOD:PUBLISH
X-WR-CALNAME:Secteur Ahuntsic-Ouest (6N)
X-ORIGINAL-URL:https://ahuntsic-ouest.areq.lacsq.org
X-WR-CALDESC:évènements pour Secteur Ahuntsic-Ouest (6N)
BEGIN:VTIMEZONE
TZID:America/New_York
BEGIN:DAYLIGHT
TZOFFSETFROM:-0500
TZOFFSETTO:-0400
TZNAME:EDT
DTSTART:20250309T070000
END:DAYLIGHT
BEGIN:STANDARD
TZOFFSETFROM:-0400
TZOFFSETTO:-0500
TZNAME:EST
DTSTART:20251102T060000
END:STANDARD
END:VTIMEZONE
BEGIN:VEVENT
DTSTART;TZID=America/New_York:20250226T130000
DTEND;TZID=America/New_York:20250226T153000
DTSTAMP:20260424T185340
CREATED:20250203T183751Z
LAST-MODIFIED:20250203T184845Z
UID:2831-1740574800-1740583800@ahuntsic-ouest.areq.lacsq.org
SUMMARY:Rendez-vous des arts\, activité #1
DESCRIPTION:Le comité des arts a organisé une série de quatre Rendez-vous des arts : un atelier ou une conférence par mois.\nLe 26 février il y aura un premier Rendez-vous des arts intitulé : Atelier de feutrage humide :\nFrance Séguin et France Houle\, artistes multidisciplinaires\, fortes de leur expertise\, animeront cet atelier où vous expérimenterez le feutrage de fibres de laine à l’aide d’eau\, de savon et par friction. Chaque participant produira sa propre œuvre feutrée intégrée en format carte. Cette œuvre sera alors rehaussée avec divers accessoires : billes\, boutons\, fils à broder\, etc. Le matériel nécessaire à la réalisation de l’œuvre est fourni mais chacun devra apporter un tablier\, une grande serviette de travail et une petite serviette à main. \nDate : mercredi le 26 février 2025\nHeure : 13 h   Durée : 2 h 30\nLieu : salle multifonctionnelle\, bibliothèque Ahuntsic\,\n10300\, rue Lajeunesse\, Montréal\nMaximum : 12 personnes\nCoût : gratuit\nInscription : au plus tard le19 février à madeleinemartin203@hotmail.com \nPour connaître les trois autres activités (qui auront lieu en mars\, avril et mai)\, cliquez ici.
URL:https://ahuntsic-ouest.areq.lacsq.org/event/rendez-vous-des-arts-premiere-activite/
LOCATION:Bibliothèque Ahuntsic\, 10300\, rue Lajeunesse\, Montréal\, Quebec\, Canada
END:VEVENT
END:VCALENDAR