BEGIN:VCALENDAR
VERSION:2.0
PRODID:-//Secteur Ahuntsic-Ouest (6N) - ECPv5.14.0.4//NONSGML v1.0//EN
CALSCALE:GREGORIAN
METHOD:PUBLISH
X-WR-CALNAME:Secteur Ahuntsic-Ouest (6N)
X-ORIGINAL-URL:https://ahuntsic-ouest.areq.lacsq.org
X-WR-CALDESC:évènements pour Secteur Ahuntsic-Ouest (6N)
BEGIN:VTIMEZONE
TZID:America/New_York
BEGIN:DAYLIGHT
TZOFFSETFROM:-0500
TZOFFSETTO:-0400
TZNAME:EDT
DTSTART:20240310T070000
END:DAYLIGHT
BEGIN:STANDARD
TZOFFSETFROM:-0400
TZOFFSETTO:-0500
TZNAME:EST
DTSTART:20241103T060000
END:STANDARD
END:VTIMEZONE
BEGIN:VEVENT
DTSTART;TZID=America/New_York:20240514T130000
DTEND;TZID=America/New_York:20240514T160000
DTSTAMP:20260424T203421
CREATED:20240329T211743Z
LAST-MODIFIED:20240329T211743Z
UID:2472-1715691600-1715702400@ahuntsic-ouest.areq.lacsq.org
SUMMARY:Visite au Musée des Beaux-Arts
DESCRIPTION:Une invitation du secteur Pointe-de-l’île \nDate : 14 mai en après-midi\nMusée des Beaux-Arts : Exposition de la peintre américaine Georgia O’Keeffe et celle du sculpteur anglais Henry Moore.\nInscription avant le 23 avril. Par courriel : hlne.martel@icloud.com\nCoût : 23 $ incluant l’entrée au musée et la visite guidée de 90 minutes.\nL’information concernant le paiement vous sera communiquée lors de votre réservation.
URL:https://ahuntsic-ouest.areq.lacsq.org/event/visite-au-musee-des-beaux-arts/
LOCATION:Musée des Beaux-Arts\, 1390 rue Sherbrooke ouest\, Montréal\, Québec\, Canada
END:VEVENT
END:VCALENDAR