BEGIN:VCALENDAR
VERSION:2.0
PRODID:-//Secteur Ahuntsic-Ouest (6N) - ECPv5.14.0.4//NONSGML v1.0//EN
CALSCALE:GREGORIAN
METHOD:PUBLISH
X-WR-CALNAME:Secteur Ahuntsic-Ouest (6N)
X-ORIGINAL-URL:https://ahuntsic-ouest.areq.lacsq.org
X-WR-CALDESC:évènements pour Secteur Ahuntsic-Ouest (6N)
BEGIN:VTIMEZONE
TZID:America/New_York
BEGIN:DAYLIGHT
TZOFFSETFROM:-0500
TZOFFSETTO:-0400
TZNAME:EDT
DTSTART:20260308T070000
END:DAYLIGHT
BEGIN:STANDARD
TZOFFSETFROM:-0400
TZOFFSETTO:-0500
TZNAME:EST
DTSTART:20261101T060000
END:STANDARD
END:VTIMEZONE
BEGIN:VEVENT
DTSTART;TZID=America/New_York:20260320T131500
DTEND;TZID=America/New_York:20260320T160000
DTSTAMP:20260424T140522
CREATED:20260208T185835Z
LAST-MODIFIED:20260218T041844Z
UID:3267-1774012500-1774022400@ahuntsic-ouest.areq.lacsq.org
SUMMARY:Visite de la Biosphère
DESCRIPTION:Heure : rassemblement à 13 h 15 à la station de métro Jean-Talon\nCoût : Adulte 14\,25 $ et 65 ans et plus 13\,50 $\, ayez le montant juste SVP\nInscriptions avant le 14 mars à Lise Labelle\, 438 375-9822\, l.labelle@videotron.ca
URL:https://ahuntsic-ouest.areq.lacsq.org/event/visite-de-la-biosphere/
LOCATION:Biosphère\, 160\, chemin du Tour-de-l'Isle\, sur l'île Sainte-Hélène\, Canada
ORGANIZER;CN="Lise%20Labelle":MAILTO:l.labelle2@videotron.ca
END:VEVENT
END:VCALENDAR