BEGIN:VCALENDAR
VERSION:2.0
PRODID:-//Secteur Ahuntsic-Ouest (6N) - ECPv5.14.0.4//NONSGML v1.0//EN
CALSCALE:GREGORIAN
METHOD:PUBLISH
X-WR-CALNAME:Secteur Ahuntsic-Ouest (6N)
X-ORIGINAL-URL:https://ahuntsic-ouest.areq.lacsq.org
X-WR-CALDESC:évènements pour Secteur Ahuntsic-Ouest (6N)
BEGIN:VTIMEZONE
TZID:America/New_York
BEGIN:DAYLIGHT
TZOFFSETFROM:-0500
TZOFFSETTO:-0400
TZNAME:EDT
DTSTART:20260308T070000
END:DAYLIGHT
BEGIN:STANDARD
TZOFFSETFROM:-0400
TZOFFSETTO:-0500
TZNAME:EST
DTSTART:20261101T060000
END:STANDARD
END:VTIMEZONE
BEGIN:VEVENT
DTSTART;TZID=America/New_York:20260424T093000
DTEND;TZID=America/New_York:20260424T120000
DTSTAMP:20260423T084342
CREATED:20210402T141532Z
LAST-MODIFIED:20260405T123826Z
UID:1611-1777023000-1777032000@ahuntsic-ouest.areq.lacsq.org
SUMMARY:Assemblée générale sectorielle
DESCRIPTION:Date : Vendredi\, le 24 avril\nHeure : 9 h 30 \nCoût du dîner (ce dîner est réservé aux membres présents à l’assemblée générale) : 25 $\nInscriptions avant le 17 avril à Diane Chabot\, dchabot10@hotmail.com   514 324-3330\nPaiement en argent sur place ou\nVirement à AREQ 06 N en utilisant l’adresse courriel : cs06n@hotmail.com \nInvitation aux artistes : cette année nous innovons pour choisir l’œuvre Coup de Cœur.\nLes artistes envoient une photo de chacune des œuvres qu’ils souhaitent soumettre\, maximum 2 œuvres avant le 15 avril à Rémi Gaulin\, gaulinr7@gmail.com\nCes photos seront présentées à l’ag et les personnes présentes voteront pour leur Coup de Cœur.
URL:https://ahuntsic-ouest.areq.lacsq.org/event/assemblee-sectorielle/
LOCATION:Institut culinaire St-Pius X\, 9955 rue Papineau\, Montréal\, Québec\, Canada
ORGANIZER;CN="Diane%20Chabot":MAILTO:dchabot10@hotmail.com
END:VEVENT
BEGIN:VEVENT
DTSTART;TZID=America/New_York:20260430T093000
DTEND;TZID=America/New_York:20260430T120000
DTSTAMP:20260423T084342
CREATED:20160819T141612Z
LAST-MODIFIED:20260405T123937Z
UID:623-1777541400-1777550400@ahuntsic-ouest.areq.lacsq.org
SUMMARY:Assemblée générale régionale
DESCRIPTION:Coût : 30 $ (le secteur contribue 15 $)\nInscriptions avant le 17 avril à Rémi Gaulin\, gaulinr7@gmail.com\nPaiement par virement à AREQ 06 N en utilisant l’adresse courriel : cs06n@hotmail.com ou\nPar chèque daté de la date d’envoi à l’ordre de AREQ 06 N et posté à :\nRémi Gaulin\, 6369 rue Chabot\, Montréal\, H2G 2T3\nVeuillez indiquer votre choix de menu pour le dîner : poulet ou saumon.
URL:https://ahuntsic-ouest.areq.lacsq.org/event/assemblee-generale-regionale/
LOCATION:Château classique\, 6010\, boul. des Grandes-Prairies\, St-Léonard\, Québec\, Canada
ORGANIZER;CN="R%C3%A9mi%20Gaulin":MAILTO:gaulinr7@gmail.com
END:VEVENT
BEGIN:VEVENT
DTSTART;TZID=America/New_York:20260506T133000
DTEND;TZID=America/New_York:20260506T153000
DTSTAMP:20260423T084342
CREATED:20260208T212557Z
LAST-MODIFIED:20260208T212557Z
UID:3284-1778074200-1778081400@ahuntsic-ouest.areq.lacsq.org
SUMMARY:Dernier RDV des arts\, Visite de l'architecture dans le Vieux-Montréal
DESCRIPTION:Activité gratuite. \nRemise le 13 mai en cas de pluie. \n\nCliquez ici pour voir toutes les informations.
URL:https://ahuntsic-ouest.areq.lacsq.org/event/dernier-rdv-des-arts-visite-de-larchitecture-dans-le-vieux-montreal/
LOCATION:Marché Bonsecours\, 350 rue St-Paul est\, Canada
END:VEVENT
BEGIN:VEVENT
DTSTART;TZID=America/New_York:20260522T113000
DTEND;TZID=America/New_York:20260522T140000
DTSTAMP:20260423T084342
CREATED:20170824T195928Z
LAST-MODIFIED:20260208T191511Z
UID:888-1779449400-1779458400@ahuntsic-ouest.areq.lacsq.org
SUMMARY:Dîner et fête des retraités depuis 5\, 10\, 15... ans
DESCRIPTION:Membres 35$ \nNon-membres: 40$
URL:https://ahuntsic-ouest.areq.lacsq.org/event/diner-fete-retraites-5-10-15-ans/
LOCATION:Institut culinaire St-Pius X\, 9955 rue Papineau\, Montréal\, Québec\, Canada
ORGANIZER;CN="Pierrette%20Boutet":MAILTO:boutetpierrette@yahoo.ca
END:VEVENT
BEGIN:VEVENT
DTSTART;TZID=America/New_York:20260531T000000
DTEND;TZID=America/New_York:20260531T000000
DTSTAMP:20260423T084342
CREATED:20180906T151539Z
LAST-MODIFIED:20260208T191842Z
UID:1131-1780185600-1780185600@ahuntsic-ouest.areq.lacsq.org
SUMMARY:Quilles-O-Thon (activité bénéfice pour la fondation Laure-Gaudreault)
DESCRIPTION:Voilà une belle occasion d’avoir du plaisir tout en soutenant la Fondation!
URL:https://ahuntsic-ouest.areq.lacsq.org/event/quilles-o-thon-activite-benefice-fondation-laure-gaudreault/
LOCATION:Salon de quilles Moderne\, 3115\, boul. de l’Assomption\, Montréal\, H1N 2H1\, Canada
ORGANIZER;CN="Diane%20Chabot":MAILTO:dchabot10@hotmail.com
END:VEVENT
BEGIN:VEVENT
DTSTART;TZID=America/New_York:20260619T113000
DTEND;TZID=America/New_York:20260619T140000
DTSTAMP:20260423T084342
CREATED:20160819T142040Z
LAST-MODIFIED:20260208T192353Z
UID:626-1781868600-1781877600@ahuntsic-ouest.areq.lacsq.org
SUMMARY:Dîner au revoir
DESCRIPTION:Coût : 35$ pour les membres\, 40$ pour les non-membres.
URL:https://ahuntsic-ouest.areq.lacsq.org/event/diner-de-fin-dannee/
LOCATION:Institut culinaire St-Pius X\, 9955 rue Papineau\, Montréal\, Québec\, Canada
ORGANIZER;CN="Pierrette%20Boutet":MAILTO:boutetpierrette@yahoo.ca
END:VEVENT
BEGIN:VEVENT
DTSTART;VALUE=DATE:20260707
DTEND;VALUE=DATE:20260708
DTSTAMP:20260423T084342
CREATED:20260208T193007Z
LAST-MODIFIED:20260411T180935Z
UID:3278-1783382400-1783468799@ahuntsic-ouest.areq.lacsq.org
SUMMARY:Croisière du 40e anniversaire
DESCRIPTION:L’AREQ-Montréal a choisi de célébrer le 40e anniversaire de la région à bord du Cavalier Maxime\, le 7 juillet 2026. Le coût du souper croisière\, incluant l’apéro et le vin\, d’une durée de trois heures\, est de 100 $ pour les membres et de 225 $ pour les non-membres. Venez voir ou revoir les membres de votre secteur et des autres secteurs de l’Ile de Montréal dans une ambiance joyeuse et festive. Un photographe spécialisé en événement sera sur place et vous fournira des souvenirs inoubliables. \nLe Cavalier Maxim quittera le port de Montréal du Grand Quai à 19 h. La croisière dure environ 3 heures. \nL’embarquement se fera à partir de 18 h. Il y aura une allée réservée pour notre groupe où se fera la distribution des billets. \nIl y a un stationnement au Grand Quai. Vous pouvez vous regrouper pour en partager le coût . Des informations pour le transport en commun vous seront communiquées en juin. \nAux dernières nouvelles\,les inscriptions se font actuellement en grand nombre\, le nombre de places étant limité à environ 150 personnes\, je vous invite à vous inscrire rapidement. \nLa période d’inscription à cet événement commence maintenant et se déroulera jusqu’au 1er juin 2026. Vous vous inscrivez auprès de Diane Chabot en acheminant un chèque\, libellé à AREQ 06N et posté à Diane Chabot\, 7926 A rue de Verone\, Saint-Léonard\, QC\, H1P3E2 ou en faisant un virement à cs06n@hotmail.com .Notez qu’aucun remboursement ne sera effectué car nous devrons payer pour les personnes inscrites. \nLes conjointes ou conjoints qui voudraient venir et qui ne sont pas membres peuvent demander de devenir membre associés et avoir droit au même prix que les membres. Appelez Diane Chabot pour savoir comment faire au 514 324-3330 mais vous pouvez appeler directement l’AREQ au 1 800 663-2408. Faites vite\, le 1er juin arrivera plus vite qu’on le pense! \nUn 40e anniversaire\, ça se fête !\nN’hésitez pas\, inscrivez-vous sans tarder. \nDiane Chabot\nPrésidente de AREQ-Ahuntsic-Ouest. \n.
URL:https://ahuntsic-ouest.areq.lacsq.org/event/croisiere-du-40e-anniversaire/
LOCATION:Cavalier Maxime\, Vieux port de Montréal\, Canada
ORGANIZER;CN="Diane%20Chabot":MAILTO:dchabot10@hotmail.com
END:VEVENT
END:VCALENDAR